BEGIN:VCALENDAR
VERSION:2.0
PRODID:-//California Colorectal Cancer Coalition (C4) - ECPv6.15.20//NONSGML v1.0//EN
CALSCALE:GREGORIAN
METHOD:PUBLISH
X-ORIGINAL-URL:https://www.cacoloncancer.org
X-WR-CALDESC:Events for California Colorectal Cancer Coalition (C4)
REFRESH-INTERVAL;VALUE=DURATION:PT1H
X-Robots-Tag:noindex
X-PUBLISHED-TTL:PT1H
BEGIN:VTIMEZONE
TZID:America/Los_Angeles
BEGIN:DAYLIGHT
TZOFFSETFROM:-0800
TZOFFSETTO:-0700
TZNAME:PDT
DTSTART:20250309T100000
END:DAYLIGHT
BEGIN:STANDARD
TZOFFSETFROM:-0700
TZOFFSETTO:-0800
TZNAME:PST
DTSTART:20251102T090000
END:STANDARD
BEGIN:DAYLIGHT
TZOFFSETFROM:-0800
TZOFFSETTO:-0700
TZNAME:PDT
DTSTART:20260308T100000
END:DAYLIGHT
BEGIN:STANDARD
TZOFFSETFROM:-0700
TZOFFSETTO:-0800
TZNAME:PST
DTSTART:20261101T090000
END:STANDARD
BEGIN:DAYLIGHT
TZOFFSETFROM:-0800
TZOFFSETTO:-0700
TZNAME:PDT
DTSTART:20270314T100000
END:DAYLIGHT
BEGIN:STANDARD
TZOFFSETFROM:-0700
TZOFFSETTO:-0800
TZNAME:PST
DTSTART:20271107T090000
END:STANDARD
END:VTIMEZONE
BEGIN:VEVENT
DTSTART;TZID=America/Los_Angeles:20260411T080000
DTEND;TZID=America/Los_Angeles:20260411T120000
DTSTAMP:20260421T005845
CREATED:20260413T004442Z
LAST-MODIFIED:20260413T004533Z
UID:5383-1775894400-1775908800@www.cacoloncancer.org
SUMMARY:C4 at the 2026 Run 4 Life: A Colon Cancer Awareness 5K - April 11\, 2026
DESCRIPTION:On Saturday\, April 11\, two C4 board members – Stony Anderson and Anna Knight\, one C4 Unfiltered community advisory council member – Michael Frierson\, and our signature inflatable colon traveled to Temecula to support the 2026 Run 4 Life: A Colon Cancer Awareness 5K at Maurice Car’rie Winery. The event was organized by one of C4 Unfiltered’s newest members – Kristin Robinson\, who hosts the race each year in honor of her father\, lost to colorectal cancer. \nThe 5K run/walk raised funds for colorectal cancer screenings\, supported local patients and survivors\, and brought critical awareness to the community. Survivors and patients were welcomed with free registration\, and a 1-mile walk option ensured the event was accessible to all. \nC4 was proud to show up for this grassroots effort — exactly the kind of community-driven action that moves the needle on early detection and saves lives.
URL:https://www.cacoloncancer.org/event/c4-at-the-2026-run-4-life-a-colon-cancer-awareness-5k-april-11-2026/
CATEGORIES:Community Outreach
ATTACH;FMTTYPE=image/jpeg:https://www.cacoloncancer.org/wp-content/uploads/2026/04/IMG_1689-scaled.jpeg
END:VEVENT
END:VCALENDAR