BEGIN:VCALENDAR
VERSION:2.0
PRODID:-//California Colorectal Cancer Coalition (C4) - ECPv6.15.20//NONSGML v1.0//EN
CALSCALE:GREGORIAN
METHOD:PUBLISH
X-WR-CALNAME:California Colorectal Cancer Coalition (C4)
X-ORIGINAL-URL:https://www.cacoloncancer.org
X-WR-CALDESC:Events for California Colorectal Cancer Coalition (C4)
REFRESH-INTERVAL;VALUE=DURATION:PT1H
X-Robots-Tag:noindex
X-PUBLISHED-TTL:PT1H
BEGIN:VTIMEZONE
TZID:America/Los_Angeles
BEGIN:DAYLIGHT
TZOFFSETFROM:-0800
TZOFFSETTO:-0700
TZNAME:PDT
DTSTART:20250309T100000
END:DAYLIGHT
BEGIN:STANDARD
TZOFFSETFROM:-0700
TZOFFSETTO:-0800
TZNAME:PST
DTSTART:20251102T090000
END:STANDARD
BEGIN:DAYLIGHT
TZOFFSETFROM:-0800
TZOFFSETTO:-0700
TZNAME:PDT
DTSTART:20260308T100000
END:DAYLIGHT
BEGIN:STANDARD
TZOFFSETFROM:-0700
TZOFFSETTO:-0800
TZNAME:PST
DTSTART:20261101T090000
END:STANDARD
BEGIN:DAYLIGHT
TZOFFSETFROM:-0800
TZOFFSETTO:-0700
TZNAME:PDT
DTSTART:20270314T100000
END:DAYLIGHT
BEGIN:STANDARD
TZOFFSETFROM:-0700
TZOFFSETTO:-0800
TZNAME:PST
DTSTART:20271107T090000
END:STANDARD
END:VTIMEZONE
BEGIN:VEVENT
DTSTART;TZID=America/Los_Angeles:20260517T070000
DTEND;TZID=America/Los_Angeles:20260517T140000
DTSTAMP:20260419T051650
CREATED:20260214T214523Z
LAST-MODIFIED:20260214T214523Z
UID:5282-1779001200-1779026400@www.cacoloncancer.org
SUMMARY:2026 Screen Your Gut – Save Your Butt (SYGSYB) – NorCal
DESCRIPTION:Join us on the UC Davis campus for our inaugural Northern California race to raise awareness about colorectal cancer and to promote prevention and early detection of colorectal cancer. #C4Screen2PreventCRC \nWe will be offering the following distances: \n1mi (or 2k) – walk/run\, untimed \n5k (3.1 mi) – timed \n10k (6.2 mil) – timed \n  \n 
URL:https://www.cacoloncancer.org/event/2026-screen-your-gut-save-your-butt-sygsyb-norcal/
CATEGORIES:Community Outreach
ATTACH;FMTTYPE=application/pdf:https://www.cacoloncancer.org/wp-content/uploads/2026/02/2026-SYGSYB_flyer-card_NorCal_2.2.26.pdf
ORGANIZER;CN="C4":MAILTO:info@cacoloncancer.org
END:VEVENT
BEGIN:VEVENT
DTSTART;TZID=America/Los_Angeles:20261001T100000
DTEND;TZID=America/Los_Angeles:20261003T120000
DTSTAMP:20260419T051650
CREATED:20260413T005502Z
LAST-MODIFIED:20260413T005502Z
UID:5388-1790848800-1791028800@www.cacoloncancer.org
SUMMARY:Western CRC Consortium Conference - October 1-3\, 2026
DESCRIPTION:Updates to the website linked from C4 will be coming in the next week or two. The conference is scheduled for October 1-3\, 2026 to be held on the UC Davis Campus Conference Center from noon on Thursday – noon on Saturday. \nAbstract submissions for speaker and/or poster spots will be opening the week of April 12 with submissions closing by June 30 for those wanting to be considered for speaker slots. \n 
URL:https://www.cacoloncancer.org/event/western-crc-consortium-conference-october-1-3-2026/
LOCATION:UCD Conference Center\, 550 Alumni Ln\, Davis\, 95616\, United States
ATTACH;FMTTYPE=image/jpeg:https://www.cacoloncancer.org/wp-content/uploads/2026/04/IMG_1584.jpeg
ORGANIZER;CN="C4":MAILTO:info@cacoloncancer.org
END:VEVENT
END:VCALENDAR